Workbook

Sheet Producton
A1: Symbol | B1: Company | C1: gold (oz) | D1: silver (koz) | E1: lead | F1: zinc | G1: Copper | H1: Comments
A2: ANPMF | B2: ANDEAN PRECIOUS METALS CORP | C2: =2367*1.33 -> 3148.11 | D2: =3555*1.33 -> 4728.15 | E2: 0 | F2: 0 | H2: YTD as of 3rd Qtr
A3: AYA CN | B3: AYA GOLD & SILVER COM NPV | C3: 0 | D3: 1880 | E3: 0 | F3: 0
A4: CDE | B4: COEUR MINING INC | C4: 315000 | D4: 9000 | E4: 0 | F4: 0 | H4: used low end of 2022 guidance
A5: EXK | B5: ENDEAVOUR SILVER CORP | C5: 36000 | D5: 5700 | E5: 0 | F5: 0 | H5: used low end of 2023 guidance
A6: AG | B6: FIRST MAJESTIC SILVER CORP | C6: 277000 | D6: 10000 | E6: 0 | F6: 0 | H6: used low end of 2023 guidance
A7: FSM | B7: FORTUNA SILVER MINES INC | C7: 280000 | D7: 6900 | E7: 22500 | F7: 16000 | H7: used 2022 outlook from inv presentation
A8: FNLPF | B8: FRESNILLO PLC | C8: 635926 | D8: 53740 | E8: 52950 | F8: 99153 | H8: used FY 2022 numbers
A9: GLGDF | B9: GoGold | C9: =3118*4 -> 12472 | D9: =307*4 -> 1228 | H9: tiny producer - 2.2m AgEq oz. Can't get breakdown. No 2023 guidance
A10: HL | B10: HECLA MNG CO | C10: 201327 | D10: 12887 | E10: 43010 | F10: 63112 | H10: 2021 numbers from their DL
A11: HCHDF | B11: HOCHSCHILD MINING | C11: 228000 | D11: =6105*2 -> 12210 | E11: 0 | F11: 0 | H11: doubled the six months to 6/30 on their interim 2022 results to get full yr
A12: PAAS | B12: PAN AMERICAN SILVER CORP | C12: 550000 | D12: 18000 | E12: 15000 | F12: 35000 | G12: 5.5 | H12: Prelim 2022 results on DL - used lower end of FY 2022 guidance in p22
A13: SVM CN | B13: SILVERCORP METALS INC | C13: 0 | D13: 7000 | E13: 68400 | F13: 15000 | H13: Used low end of 2023 prod guidance on p 24 of presentation
A14: SSRM | B14: SSR MINING INC | C14: 525000 | D14: 8250 | E14: 0 | F14: 0 | G14: 0 | H14: Got from 2022 guidance table in page 27 of 3Q financial results
A15: ISVLF | B15: Impact Silver | C15: 295 | D15: 617 | E15: 250 | G15: 0 | H15: micro producer, used 2021 numbers from hard to see corp presentation
A16: GSVRF | B16: Guanajuato silver | C16: =4*3226 -> 12904 | D16: =4*329298/1000 -> 1317.192 | E16: =537608/2000 -> 268.804 | F16: =677127/2000 -> 338.5635 | G16: 0 | H16: Took 3Q 2022 and times by 4, since new mine with lead and zinc started
A17: SZSMF | B17: SantaCruz silver | D17: =(1556+368)*4 -> 7696 | E17: =(2352+1157)*4 -> 14036 | F17: =(20397+3044)*4 -> 93764 | G17: =609*4 -> 2436 | H17: Took 3Q 2022 on MD&A and combined from 2 mines and times by 4
A18: Tot prod | C18: =SUM(C2:C17) -> 3077072.1 | D18: =SUM(D2:D17) -> 161153.34 | E18: =SUM(E2:E17) -> 216414.8 | F18: =SUM(F2:F17) -> 322367.56 | G18: =SUM(G2:G17) -> 2441.5

Sheet Prices
A1: Metal | B1: Units | C1: Price
A2: Gold | B2: Oz | C2: 1824 | D2: Used from Penola site for YTD at Q3 2022
A3: Silver | B3: Oz | C3: 21.93 | D3: Used from Penola site for YTD at Q3 2022
A4: Silver | B4: Moon | C4: 30
A5: Lead | B5: Ton | C5: 2180 | D5: Today price
A6: Zinc | B6: Ton | C6: 3961 | D6: Today price
A7: Copper | B7: Ton | C7: =4.17*2000 -> 8340 | D7: Today price
A11: GSR on chart | B11: =C2/C3 -> 83.173735
A12: Mean of 50 | B12: =C2/50 -> 36.48 | C12: Used in "moon" scenario

Sheet Percent of Revenue
A1: Company | B1: Mkt cap ($m) | C1: P/E ratio | D1: gold (oz) | E1: silver (koz) | F1: lead (tons) | G1: zinc (tons) | H1: Copper (tons) | I1: Total Base Metal Rev | J1: Tot Rev | K1: % Silver | L1: Comments
A2: ANDEAN PRECIOUS METALS CORP | B2: 123 | C2: 20.07 | D2: =Producton!C2*Prices!$C$2 -> 5742152.6 | E2: =Producton!D2*Prices!$C$3*1000 -> 1.0368833e+08 | F2: =Producton!E2*Prices!$C$5 -> 0 | G2: =Producton!F2*Prices!$C$6 -> 0 | H2: =Producton!G2*Prices!$C$7 -> 0 | I2: =Table3[[#This Row],[lead (tons)]]+Table3[[#This Row],[zinc (tons)]]+Table3[[#This Row],[Copper (tons)]] -> 0 | J2: =D2+E2+F2+G2 -> 1.0943048e+08 | K2: =E2/J2 -> 0.94752694 | L2: YTD as of 3rd Qtr
A3: AYA GOLD & SILVER COM NPV | B3: 716 | C3: N/A | D3: =Producton!C3*Prices!$C$2 -> 0 | E3: =Producton!D3*Prices!$C$3*1000 -> 41228400 | F3: =Producton!E3*Prices!$C$5 -> 0 | G3: =Producton!F3*Prices!$C$6 -> 0 | H3: =Producton!G3*Prices!$C$7 -> 0 | I3: =Table3[[#This Row],[lead (tons)]]+Table3[[#This Row],[zinc (tons)]]+Table3[[#This Row],[Copper (tons)]] -> 0 | J3: =D3+E3+F3+G3 -> 41228400 | K3: =E3/J3 -> 1
A4: COEUR MINING INC | B4: 1159 | C4: N/A | D4: =Producton!C4*Prices!$C$2 -> 574560000 | E4: =Producton!D4*Prices!$C$3*1000 -> 197370000 | F4: =Producton!E4*Prices!$C$5 -> 0 | G4: =Producton!F4*Prices!$C$6 -> 0 | H4: =Producton!G4*Prices!$C$7 -> 0 | I4: =Table3[[#This Row],[lead (tons)]]+Table3[[#This Row],[zinc (tons)]]+Table3[[#This Row],[Copper (tons)]] -> 0 | J4: =D4+E4+F4+G4 -> 771930000 | K4: =E4/J4 -> 0.25568381 | L4: 70/30 gold to silver on corp presentation
A5: ENDEAVOUR SILVER CORP | B5: 673 | C5: 50.64 | D5: =Producton!C5*Prices!$C$2 -> 65664000 | E5: =Producton!D5*Prices!$C$3*1000 -> 125001000 | F5: =Producton!E5*Prices!$C$5 -> 0 | G5: =Producton!F5*Prices!$C$6 -> 0 | H5: =Producton!G5*Prices!$C$7 -> 0 | I5: =Table3[[#This Row],[lead (tons)]]+Table3[[#This Row],[zinc (tons)]]+Table3[[#This Row],[Copper (tons)]] -> 0 | J5: =D5+E5+F5+G5 -> 190665000 | K5: =E5/J5 -> 0.65560538
A6: FIRST MAJESTIC SILVER CORP | B6: 2180 | C6: 4006 | D6: =Producton!C6*Prices!$C$2 -> 505248000 | E6: =Producton!D6*Prices!$C$3*1000 -> 219300000 | F6: =Producton!E6*Prices!$C$5 -> 0 | G6: =Producton!F6*Prices!$C$6 -> 0 | H6: =Producton!G6*Prices!$C$7 -> 0 | I6: =Table3[[#This Row],[lead (tons)]]+Table3[[#This Row],[zinc (tons)]]+Table3[[#This Row],[Copper (tons)]] -> 0 | J6: =D6+E6+F6+G6 -> 724548000 | K6: =E6/J6 -> 0.30267146 | L6: JC took it from 42% to 30%
A7: FORTUNA SILVER MINES INC | B7: 1130 | C7: 35 | D7: =Producton!C7*Prices!$C$2 -> 510720000 | E7: =Producton!D7*Prices!$C$3*1000 -> 151317000 | F7: =Producton!E7*Prices!$C$5 -> 49050000 | G7: =Producton!F7*Prices!$C$6 -> 63376000 | H7: =Producton!G7*Prices!$C$7 -> 0 | I7: =Table3[[#This Row],[lead (tons)]]+Table3[[#This Row],[zinc (tons)]]+Table3[[#This Row],[Copper (tons)]] -> 112426000 | J7: =D7+E7+F7+G7 -> 774463000 | K7: =E7/J7 -> 0.19538312
A8: FRESNILLO PLC | B8: 7801 | C8: 32.72 | D8: =Producton!C8*Prices!$C$2 -> 1159929024 | E8: =Producton!D8*Prices!$C$3*1000 -> 1178518200 | F8: =Producton!E8*Prices!$C$5 -> 115431000 | G8: =Producton!F8*Prices!$C$6 -> 392745033 | H8: =Producton!G8*Prices!$C$7 -> 0 | I8: =Table3[[#This Row],[lead (tons)]]+Table3[[#This Row],[zinc (tons)]]+Table3[[#This Row],[Copper (tons)]] -> 508176033 | J8: =D8+E8+F8+G8 -> 2846623257 | K8: =E8/J8 -> 0.41400568 | L8: Primary silver, by a nose
A9: GoGold | B9: 494 | C9: N/A | D9: =Producton!C9*Prices!$C$2 -> 22748928 | E9: =Producton!D9*Prices!$C$3*1000 -> 26930040 | F9: =Producton!E9*Prices!$C$5 -> 0 | G9: =Producton!F9*Prices!$C$6 -> 0 | H9: =Producton!G9*Prices!$C$7 -> 0 | I9: =Table3[[#This Row],[lead (tons)]]+Table3[[#This Row],[zinc (tons)]]+Table3[[#This Row],[Copper (tons)]] -> 0 | J9: =D9+E9+F9+G9 -> 49678968 | K9: =E9/J9 -> 0.54208131 | L9: Got Q3 SOLD from MD&A and multiplied by 4
A10: HECLA MNG CO | B10: 3760 | C10: 207 | D10: =Producton!C10*Prices!$C$2 -> 367220448 | E10: =Producton!D10*Prices!$C$3*1000 -> 282611910 | F10: =Producton!E10*Prices!$C$5 -> 93761800 | G10: =Producton!F10*Prices!$C$6 -> 249986632 | H10: =Producton!G10*Prices!$C$7 -> 0 | I10: =Table3[[#This Row],[lead (tons)]]+Table3[[#This Row],[zinc (tons)]]+Table3[[#This Row],[Copper (tons)]] -> 343748432 | J10: =D10+E10+F10+G10 -> 993580790 | K10: =E10/J10 -> 0.28443778
A11: HOCHSCHILD MINING | B11: 507 | C11: 16 | D11: =Producton!C11*Prices!$C$2 -> 415872000 | E11: =Producton!D11*Prices!$C$3*1000 -> 267765300 | F11: =Producton!E11*Prices!$C$5 -> 0 | G11: =Producton!F11*Prices!$C$6 -> 0 | H11: =Producton!G11*Prices!$C$7 -> 0 | I11: =Table3[[#This Row],[lead (tons)]]+Table3[[#This Row],[zinc (tons)]]+Table3[[#This Row],[Copper (tons)]] -> 0 | J11: =D11+E11+F11+G11 -> 683637300 | K11: =E11/J11 -> 0.39167743 | L11: Adjusted silver up to account for double 22 H1 results
A12: PAN AMERICAN SILVER CORP | B12: 3877 | C12: 21 | D12: =Producton!C12*Prices!$C$2 -> 1003200000 | E12: =Producton!D12*Prices!$C$3*1000 -> 394740000 | F12: =Producton!E12*Prices!$C$5 -> 32700000 | G12: =Producton!F12*Prices!$C$6 -> 138635000 | H12: =Producton!G12*Prices!$C$7 -> 45870 | I12: =Table3[[#This Row],[lead (tons)]]+Table3[[#This Row],[zinc (tons)]]+Table3[[#This Row],[Copper (tons)]] -> 171380870 | J12: =D12+E12+F12+G12 -> 1569275000 | K12: =E12/J12 -> 0.25154291 | L12: didn't add 5500 tons of copper
A13: SILVERCORP METALS INC | B13: 591 | C13: 33 | D13: =Producton!C13*Prices!$C$2 -> 0 | E13: =Producton!D13*Prices!$C$3*1000 -> 153510000 | F13: =Producton!E13*Prices!$C$5 -> 149112000 | G13: =Producton!F13*Prices!$C$6 -> 59415000 | H13: =Producton!G13*Prices!$C$7 -> 0 | I13: =Table3[[#This Row],[lead (tons)]]+Table3[[#This Row],[zinc (tons)]]+Table3[[#This Row],[Copper (tons)]] -> 208527000 | J13: =D13+E13+F13+G13 -> 362037000 | K13: =E13/J13 -> 0.42401743 | L13: Adjusted zinc down 50% - listed as Klbs rather than tons
A14: SSR MINING INC | B14: 3533 | C14: 16 | D14: =Producton!C14*Prices!$C$2 -> 957600000 | E14: =Producton!D14*Prices!$C$3*1000 -> 180922500 | F14: =Producton!E14*Prices!$C$5 -> 0 | G14: =Producton!F14*Prices!$C$6 -> 0 | H14: =Producton!G14*Prices!$C$7 -> 0 | I14: =Table3[[#This Row],[lead (tons)]]+Table3[[#This Row],[zinc (tons)]]+Table3[[#This Row],[Copper (tons)]] -> 0 | J14: =D14+E14+F14+G14 -> 1138522500 | K14: =E14/J14 -> 0.1589099
A15: Impact Silver | B15: 39 | C15: N/A | D15: =Producton!C15*Prices!$C$2 -> 538080 | E15: =Producton!D15*Prices!$C$3*1000 -> 13530810 | F15: =Producton!E15*Prices!$C$5 -> 545000 | G15: =Producton!F15*Prices!$C$6 -> 0 | H15: =Producton!G15*Prices!$C$7 -> 0 | I15: =Table3[[#This Row],[lead (tons)]]+Table3[[#This Row],[zinc (tons)]]+Table3[[#This Row],[Copper (tons)]] -> 545000 | J15: =D15+E15+F15+G15 -> 14613890 | K15: =E15/J15 -> 0.92588695 | L15: Corp presentation would not load
A16: Guanajuato Silver | B16: 96 | C16: N/A | D16: =Producton!C16*Prices!$C$2 -> 23536896 | E16: =Producton!D16*Prices!$C$3*1000 -> 28886021 | F16: =Producton!E16*Prices!$C$5 -> 585992.72 | G16: =Producton!F16*Prices!$C$6 -> 1341050 | H16: =Producton!G16*Prices!$C$7 -> 0 | I16: =Table3[[#This Row],[lead (tons)]]+Table3[[#This Row],[zinc (tons)]]+Table3[[#This Row],[Copper (tons)]] -> 1927042.7 | J16: =D16+E16+F16+G16 -> 54349959 | K16: =E16/J16 -> 0.53148192
A17: SantaCruz silver | B17: 99 | C17: N/A | D17: =Producton!C17*Prices!$C$2 -> 0 | E17: =Producton!D17*Prices!$C$3*1000 -> 168773280 | F17: =Producton!E17*Prices!$C$5 -> 30598480 | G17: =Producton!F17*Prices!$C$6 -> 371399204 | H17: =Producton!G17*Prices!$C$7 -> 20316240 | I17: =Table3[[#This Row],[lead (tons)]]+Table3[[#This Row],[zinc (tons)]]+Table3[[#This Row],[Copper (tons)]] -> 422313924 | J17: =D17+E17+F17+G17 -> 570770964 | K17: =E17/J17 -> 0.29569353 | L17: Massively Zinc
A18: This is at 84 GSR | D18: =Producton!C18*Prices!$C$2 -> 5.6125795e+09 | E18: =Producton!D18*Prices!$C$3*1000 -> 3.5340928e+09 | F18: =Producton!E18*Prices!$C$5 -> 4.7178427e+08 | G18: =Producton!F18*Prices!$C$6 -> 1.2768979e+09 | H18: =Producton!G18*Prices!$C$7 -> 20362110 | I18: =Table3[[#This Row],[lead (tons)]]+Table3[[#This Row],[zinc (tons)]]+Table3[[#This Row],[Copper (tons)]] -> 1.7690443e+09 | J18: =D18+E18+F18+G18 -> 1.0895355e+10 | K18: =E18/J18 -> 0.32436694
B21: Denotes primary metals
B22: Denotes $100m mkt cap AND silver as primary metal by revenue
B23: Sub $100m mkt cap AND silver as primary metal by revenue

Sheet Calcs for chart
A1: Company | B1: silver | C1: gold | D1: Base metals | E1: Tot Rev
A2: ANDEAN PRECIOUS METALS CORP | B2: =Producton!D2*Prices!$C$3*1000 -> 1.0368833e+08 | C2: =Producton!C2*Prices!$C$2 -> 5742152.6 | D2: =Table3[[#This Row],[Total Base Metal Rev]] -> 0 | E2: =Table3[[#This Row],[Tot Rev]] -> 1.0943048e+08
A3: AYA GOLD & SILVER COM NPV | B3: =Producton!D3*Prices!$C$3*1000 -> 41228400 | C3: =Producton!C3*Prices!$C$2 -> 0 | D3: =Table3[[#This Row],[Total Base Metal Rev]] -> 0 | E3: =Table3[[#This Row],[Tot Rev]] -> 41228400
A4: COEUR MINING INC | B4: =Producton!D4*Prices!$C$3*1000 -> 197370000 | C4: =Producton!C4*Prices!$C$2 -> 574560000 | D4: =Table3[[#This Row],[Total Base Metal Rev]] -> 0 | E4: =Table3[[#This Row],[Tot Rev]] -> 771930000
A5: ENDEAVOUR SILVER CORP | B5: =Producton!D5*Prices!$C$3*1000 -> 125001000 | C5: =Producton!C5*Prices!$C$2 -> 65664000 | D5: =Table3[[#This Row],[Total Base Metal Rev]] -> 0 | E5: =Table3[[#This Row],[Tot Rev]] -> 190665000
A6: FIRST MAJESTIC SILVER CORP | B6: =Producton!D6*Prices!$C$3*1000 -> 219300000 | C6: =Producton!C6*Prices!$C$2 -> 505248000 | D6: =Table3[[#This Row],[Total Base Metal Rev]] -> 0 | E6: =Table3[[#This Row],[Tot Rev]] -> 724548000
A7: FORTUNA SILVER MINES INC | B7: =Producton!D7*Prices!$C$3*1000 -> 151317000 | C7: =Producton!C7*Prices!$C$2 -> 510720000 | D7: =Table3[[#This Row],[Total Base Metal Rev]] -> 112426000 | E7: =Table3[[#This Row],[Tot Rev]] -> 774463000
A8: FRESNILLO PLC | B8: =Producton!D8*Prices!$C$3*1000 -> 1178518200 | C8: =Producton!C8*Prices!$C$2 -> 1159929024 | D8: =Table3[[#This Row],[Total Base Metal Rev]] -> 508176033 | E8: =Table3[[#This Row],[Tot Rev]] -> 2846623257
A9: GoGold | B9: =Producton!D9*Prices!$C$3*1000 -> 26930040 | C9: =Producton!C9*Prices!$C$2 -> 22748928 | D9: =Table3[[#This Row],[Total Base Metal Rev]] -> 0 | E9: =Table3[[#This Row],[Tot Rev]] -> 49678968
A10: HECLA MNG CO | B10: =Producton!D10*Prices!$C$3*1000 -> 282611910 | C10: =Producton!C10*Prices!$C$2 -> 367220448 | D10: =Table3[[#This Row],[Total Base Metal Rev]] -> 343748432 | E10: =Table3[[#This Row],[Tot Rev]] -> 993580790
A11: HOCHSCHILD MINING | B11: =Producton!D11*Prices!$C$3*1000 -> 267765300 | C11: =Producton!C11*Prices!$C$2 -> 415872000 | D11: =Table3[[#This Row],[Total Base Metal Rev]] -> 0 | E11: =Table3[[#This Row],[Tot Rev]] -> 683637300
A12: PAN AMERICAN SILVER CORP | B12: =Producton!D12*Prices!$C$3*1000 -> 394740000 | C12: =Producton!C12*Prices!$C$2 -> 1003200000 | D12: =Table3[[#This Row],[Total Base Metal Rev]] -> 171380870 | E12: =Table3[[#This Row],[Tot Rev]] -> 1569275000
A13: SILVERCORP METALS INC | B13: =Producton!D13*Prices!$C$3*1000 -> 153510000 | C13: =Producton!C13*Prices!$C$2 -> 0 | D13: =Table3[[#This Row],[Total Base Metal Rev]] -> 208527000 | E13: =Table3[[#This Row],[Tot Rev]] -> 362037000
... A17: SantaCruz silver | B17: =Producton!D17*Prices!$C$3*1000 -> 168773280 | C17: =Producton!C17*Prices!$C$2 -> 0 | D17: =Table3[[#This Row],[Total Base Metal Rev]] -> 422313924 | E17: =Table3[[#This Row],[Tot Rev]] -> 570770964
A19: Company | B19: Silver | C19: Gold | D19: Base
A20: ANDEAN PRECIOUS METALS CORP | B20: =B2/$E2 -> 0.94752694 | C20: =C2/$E2 -> 0.052473064 | D20: =D2/$E2 -> 0
A21: AYA GOLD & SILVER COM NPV | B21: =B3/$E3 -> 1 | C21: =C3/$E3 -> 0 | D21: =D3/$E3 -> 0
A22: COEUR MINING INC | B22: =B4/$E4 -> 0.25568381 | C22: =C4/$E4 -> 0.74431619 | D22: =D4/$E4 -> 0
A23: ENDEAVOUR SILVER CORP | B23: =B5/$E5 -> 0.65560538 | C23: =C5/$E5 -> 0.34439462 | D23: =D5/$E5 -> 0
A24: FIRST MAJESTIC SILVER CORP | B24: =B6/$E6 -> 0.30267146 | C24: =C6/$E6 -> 0.69732854 | D24: =D6/$E6 -> 0
A25: FORTUNA SILVER MINES INC | B25: =B7/$E7 -> 0.19538312 | C25: =C7/$E7 -> 0.65945048 | D25: =D7/$E7 -> 0.14516639
A26: FRESNILLO PLC | B26: =B8/$E8 -> 0.41400568 | C26: =C8/$E8 -> 0.40747543 | D26: =D8/$E8 -> 0.17851889
A27: GoGold | B27: =B9/$E9 -> 0.54208131 | C27: =C9/$E9 -> 0.45791869 | D27: =D9/$E9 -> 0
A28: HECLA MNG CO | B28: =B10/$E10 -> 0.28443778 | C28: =C10/$E10 -> 0.36959294 | D28: =D10/$E10 -> 0.34596928
A29: HOCHSCHILD MINING | B29: =B11/$E11 -> 0.39167743 | C29: =C11/$E11 -> 0.60832257 | D29: =D11/$E11 -> 0
A30: PAN AMERICAN SILVER CORP | B30: =B12/$E12 -> 0.25154291 | C30: =C12/$E12 -> 0.6392761 | D30: =D12/$E12 -> 0.10921022
A31: SILVERCORP METALS INC | B31: =B13/$E13 -> 0.42401743 | C31: =C13/$E13 -> 0 | D31: =D13/$E13 -> 0.57598257
... A35: SantaCruz silver | B35: =B17/$E17 -> 0.29569353 | C35: =C17/$E17 -> 0 | D35: =D17/$E17 -> 0.73990085
A38: Company | B38: Silver | C38: Gold | D38: Base
A39: AYA GOLD & SILVER | B39: 1 | C39: 0 | D39: 0
A40: ANDEAN PM | B40: 0.94752694 | C40: 0.052473064 | D40: 0
A41: Impact Silver | B41: 0.92588695 | C41: 0.036819765 | D41: 0.037293287
A42: ENDEAVOUR SILVER | B42: 0.65560538 | C42: 0.34439462 | D42: 0
A43: GoGold | B43: 0.54208131 | C43: 0.45791869 | D43: 0
A44: Guanajuato silver | B44: 0.53148192 | C44: 0.43306189 | D44: 0.035456195
A45: SILVERCORP | B45: 0.42401743 | C45: 0 | D45: 0.57598257
A46: FRESNILLO | B46: 0.41400568 | C46: 0.40747543 | D46: 0.17851889
A47: HOCHSCHILD | B47: 0.39167743 | C47: 0.60832257 | D47: 0
A48: FIRST MAJESTIC | B48: 0.30267146 | C48: 0.69732854 | D48: 0
A49: SantaCruz silver | B49: 0.29569353 | C49: 0 | D49: 0.73990085
...
